BEGIN:VCALENDAR
VERSION:2.0
PRODID:-//Surreal Gourmet - ECPv5.0.2.1//NONSGML v1.0//EN
CALSCALE:GREGORIAN
METHOD:PUBLISH
X-WR-CALNAME:Surreal Gourmet
X-ORIGINAL-URL:http://www.bobblumer.com
X-WR-CALDESC:Events for Surreal Gourmet
BEGIN:VTIMEZONE
TZID:UTC
BEGIN:STANDARD
TZOFFSETFROM:+0000
TZOFFSETTO:+0000
TZNAME:UTC
DTSTART:20200101T000000
END:STANDARD
END:VTIMEZONE
BEGIN:VEVENT
DTSTART;VALUE=DATE:20200220
DTEND;VALUE=DATE:20200221
DTSTAMP:20260423T114139
CREATED:20200210T215101Z
LAST-MODIFIED:20200210T221043Z
UID:11434-1582156800-1582243199@www.bobblumer.com
SUMMARY:Private Tasting - A Night at Bob's
DESCRIPTION:
URL:http://www.bobblumer.com/event/bob-to-cook-for-a-private-healthcare-event/
LOCATION:Bob’s kitchen\, Los Angeles\, CA\, United States
END:VEVENT
END:VCALENDAR