BEGIN:VCALENDAR
VERSION:2.0
PRODID:-//Surreal Gourmet - ECPv5.0.2.1//NONSGML v1.0//EN
CALSCALE:GREGORIAN
METHOD:PUBLISH
X-WR-CALNAME:Surreal Gourmet
X-ORIGINAL-URL:http://www.bobblumer.com
X-WR-CALDESC:Events for Surreal Gourmet
BEGIN:VTIMEZONE
TZID:UTC
BEGIN:STANDARD
TZOFFSETFROM:+0000
TZOFFSETTO:+0000
TZNAME:UTC
DTSTART:20200101T000000
END:STANDARD
END:VTIMEZONE
BEGIN:VEVENT
DTSTART;VALUE=DATE:20201021
DTEND;VALUE=DATE:20201026
DTSTAMP:20260421T150833
CREATED:20200210T222814Z
LAST-MODIFIED:20200210T223837Z
UID:11453-1603238400-1603670399@www.bobblumer.com
SUMMARY:Public Appearance - Devour Food Film Festival
DESCRIPTION:Bob returns for the seventh time to host the post-screening interviews and participate in a a variety of events at the world’s largest all-food film\, film festivals in beautiful Wolfville\, Nova Scotia in Canada. \n
URL:http://www.bobblumer.com/event/public-appearance-devour-food-film-festival/
LOCATION:Devour Food Film Festival\, Wolfville\, Nova Scotia\, Canada
END:VEVENT
END:VCALENDAR