BEGIN:VCALENDAR
VERSION:2.0
PRODID:-//Surreal Gourmet - ECPv5.0.2.1//NONSGML v1.0//EN
CALSCALE:GREGORIAN
METHOD:PUBLISH
X-WR-CALNAME:Surreal Gourmet
X-ORIGINAL-URL:http://www.bobblumer.com
X-WR-CALDESC:Events for Surreal Gourmet
BEGIN:VTIMEZONE
TZID:UTC
BEGIN:STANDARD
TZOFFSETFROM:+0000
TZOFFSETTO:+0000
TZNAME:UTC
DTSTART:20200101T000000
END:STANDARD
END:VTIMEZONE
BEGIN:VEVENT
DTSTART;VALUE=DATE:20200307
DTEND;VALUE=DATE:20200308
DTSTAMP:20260423T111410
CREATED:20200210T220355Z
LAST-MODIFIED:20200210T223423Z
UID:11437-1583539200-1583625599@www.bobblumer.com
SUMMARY:Public Appearance - Windsor Essex Homebuilder's Show
DESCRIPTION:The Home & Lifestyle Show has been put on by the Windsor Essex Home Builders’ Association for over 20 years. Latest products and trends on home décor and outdoor living. \n
URL:http://www.bobblumer.com/event/public-appearance-windsor-essex-homebuilders-show/
LOCATION:Ciocario Club\, 3745 N Talbot Rd\, Oldcastle\, Ontario\, N0R 1L0\, Canada
END:VEVENT
END:VCALENDAR